BEGIN:VCALENDAR
VERSION:2.0
PRODID:-//Scouts NI - ECPv6.15.20//NONSGML v1.0//EN
CALSCALE:GREGORIAN
METHOD:PUBLISH
X-WR-CALNAME:Scouts NI
X-ORIGINAL-URL:https://www.scoutsni.org
X-WR-CALDESC:Events for Scouts NI
REFRESH-INTERVAL;VALUE=DURATION:PT1H
X-Robots-Tag:noindex
X-PUBLISHED-TTL:PT1H
BEGIN:VTIMEZONE
TZID:UTC
BEGIN:STANDARD
TZOFFSETFROM:+0000
TZOFFSETTO:+0000
TZNAME:UTC
DTSTART:20240101T000000
END:STANDARD
END:VTIMEZONE
BEGIN:VEVENT
DTSTART;VALUE=DATE:20250714
DTEND;VALUE=DATE:20250716
DTSTAMP:20260425T120814
CREATED:20241219T111738Z
LAST-MODIFIED:20250623T114423Z
UID:17333-1752451200-1752623999@www.scoutsni.org
SUMMARY:Scouts NI Office Closure
DESCRIPTION:We are closed for the ‘Twelfth’ Holidays.
URL:https://www.scoutsni.org/calendar/scouts-ni-office-closure-6/
LOCATION:Ardnavallay Scout Centre
ORGANIZER;CN="Scouts NI":MAILTO:enquiries@scoutsni.org
END:VEVENT
BEGIN:VEVENT
DTSTART;VALUE=DATE:20250714
DTEND;VALUE=DATE:20250716
DTSTAMP:20260425T120814
CREATED:20241219T111738Z
LAST-MODIFIED:20250623T114423Z
UID:17333-1752451200-1752623999@www.scoutsni.org
SUMMARY:Scouts NI Office Closure
DESCRIPTION:We are closed for the ‘Twelfth’ Holidays.
URL:https://www.scoutsni.org/calendar/scouts-ni-office-closure-6/
LOCATION:Ardnavallay Scout Centre
ORGANIZER;CN="Scouts NI":MAILTO:enquiries@scoutsni.org
END:VEVENT
BEGIN:VEVENT
DTSTART;VALUE=DATE:20250421
DTEND;VALUE=DATE:20250423
DTSTAMP:20260425T120814
CREATED:20241219T111110Z
LAST-MODIFIED:20250411T073633Z
UID:17326-1745193600-1745366399@www.scoutsni.org
SUMMARY:Scouts NI Office Closure
DESCRIPTION:We are closed for the Easter holidays.
URL:https://www.scoutsni.org/calendar/scouts-ni-office-closure-3/
LOCATION:Ardnavallay Scout Centre
END:VEVENT
BEGIN:VEVENT
DTSTART;VALUE=DATE:20250421
DTEND;VALUE=DATE:20250423
DTSTAMP:20260425T120814
CREATED:20241219T111110Z
LAST-MODIFIED:20250411T073633Z
UID:17326-1745193600-1745366399@www.scoutsni.org
SUMMARY:Scouts NI Office Closure
DESCRIPTION:We are closed for the Easter holidays.
URL:https://www.scoutsni.org/calendar/scouts-ni-office-closure-3/
LOCATION:Ardnavallay Scout Centre
END:VEVENT
END:VCALENDAR