BEGIN:VCALENDAR
VERSION:2.0
PRODID:-//Scouts NI - ECPv6.15.20//NONSGML v1.0//EN
CALSCALE:GREGORIAN
METHOD:PUBLISH
X-WR-CALNAME:Scouts NI
X-ORIGINAL-URL:https://www.scoutsni.org
X-WR-CALDESC:Events for Scouts NI
REFRESH-INTERVAL;VALUE=DURATION:PT1H
X-Robots-Tag:noindex
X-PUBLISHED-TTL:PT1H
BEGIN:VTIMEZONE
TZID:UTC
BEGIN:STANDARD
TZOFFSETFROM:+0000
TZOFFSETTO:+0000
TZNAME:UTC
DTSTART:20250101T000000
END:STANDARD
END:VTIMEZONE
BEGIN:VEVENT
DTSTART;VALUE=DATE:20260201
DTEND;VALUE=DATE:20260202
DTSTAMP:20260422T102449
CREATED:20260122T093004Z
LAST-MODIFIED:20260123T160928Z
UID:19669-1769904000-1769990399@www.scoutsni.org
SUMMARY:Hill Walking Training Day
DESCRIPTION:If you’re working towards a Hill Walking permit or you simply want to feel more confident leading days in the hills – our Hill Skills Training Day is designed with you in mind. \n\nThis is practical\, supportive training that builds on Hill Skills 1 and focuses on the real skills leaders use in the hills: sound navigation\, solid planning and making good decisions when conditions\, people and plans don’t quite line up. \nThe training takes place across two sessions. The daytime session runs from 9.30am to 4.30pm and is based in the hills\, consolidating core navigation skills and developing confidence away from paths and into open terrain. The evening session\, 6.30pm to 8.30pm\, focuses on night and poor‑weather navigation\, planning\, assessing risk and understanding what’s expected for permit assessment and hill walking events within Scouts. \nTogether\, the two sessions provide essential preparation for the Hill Walking Permit Assessment taking place in March. \nYou’ll leave with a clearer understanding\, stronger confidence and practical tools you can put straight into use with your section. \nHill Walking Training Day – Additional Information \nSpaces are limited – please register below.
URL:https://www.scoutsni.org/calendar/hill-walking-training-day/
LOCATION:Mourne Mountains
CATEGORIES:Adults,Training
ORGANIZER;CN="Andrew Stacey (Activity Permits Lead)":MAILTO:activitypermits@scoutsni.org
END:VEVENT
END:VCALENDAR