BEGIN:VCALENDAR
VERSION:2.0
PRODID:-//Scouts NI - ECPv6.15.20//NONSGML v1.0//EN
CALSCALE:GREGORIAN
METHOD:PUBLISH
X-WR-CALNAME:Scouts NI
X-ORIGINAL-URL:https://www.scoutsni.org
X-WR-CALDESC:Events for Scouts NI
REFRESH-INTERVAL;VALUE=DURATION:PT1H
X-Robots-Tag:noindex
X-PUBLISHED-TTL:PT1H
BEGIN:VTIMEZONE
TZID:UTC
BEGIN:STANDARD
TZOFFSETFROM:+0000
TZOFFSETTO:+0000
TZNAME:UTC
DTSTART:20250101T000000
END:STANDARD
END:VTIMEZONE
BEGIN:VEVENT
DTSTART;TZID=UTC:20260316T190000
DTEND;TZID=UTC:20260316T200000
DTSTAMP:20260422T094430
CREATED:20260305T154048Z
LAST-MODIFIED:20260305T154048Z
UID:19943-1773687600-1773691200@www.scoutsni.org
SUMMARY:Burn 24 Briefing
DESCRIPTION:We’re bringing all leaders together for a Burn 24 briefing. \n\nThis online session will walk through the event timeline\, what support we need from leaders\, and how the event will run from start to finish. It’s a great opportunity to get ready\, get confident and help make Burn 24 the best experience possible for our young people. \nIf you’ve any questions you’d like covered during the session\, please email them in advance to peterwilson@scoutsni.org. \nWe also have a small number of additional booking spaces available for groups who still need them – please click here. \nRegister for the Teams call below:
URL:https://www.scoutsni.org/calendar/burn-24-briefing/
LOCATION:Online via Teams
CATEGORIES:Explorers,Scouts
ORGANIZER;CN="Peter Wilson (14-24 Team Lead)":MAILTO:peterwilson@scoutsni.org
END:VEVENT
END:VCALENDAR