BEGIN:VCALENDAR
VERSION:2.0
PRODID:-//Scouts NI - ECPv6.15.20//NONSGML v1.0//EN
CALSCALE:GREGORIAN
METHOD:PUBLISH
X-ORIGINAL-URL:https://www.scoutsni.org
X-WR-CALDESC:Events for Scouts NI
REFRESH-INTERVAL;VALUE=DURATION:PT1H
X-Robots-Tag:noindex
X-PUBLISHED-TTL:PT1H
BEGIN:VTIMEZONE
TZID:UTC
BEGIN:STANDARD
TZOFFSETFROM:+0000
TZOFFSETTO:+0000
TZNAME:UTC
DTSTART:20250101T000000
END:STANDARD
END:VTIMEZONE
BEGIN:VEVENT
DTSTART;TZID=UTC:20260215T090000
DTEND;TZID=UTC:20260215T160000
DTSTAMP:20260422T113315
CREATED:20260211T100918Z
LAST-MODIFIED:20260211T100918Z
UID:19757-1771146000-1771171200@www.scoutsni.org
SUMMARY:First Aid Training (Hillsborough)
DESCRIPTION:Build the skills and confidence to respond in an emergency. \nThis course is essential training for all leaders and equips you with practical\, lifesaving skills to help keep young people safe in Scouting. The session is hands-on and designed to give you the knowledge and confidence to act when it matters most. \n\nCost: £20\nPlaces: Limited to 10 participants\n\nPlease come prepared for a full day of practical learning. \nTo book your place\, please contact maxwell.phil@gmail.com.
URL:https://www.scoutsni.org/calendar/first-aid-training-hillsborough/
LOCATION:Hillsborough Scout Hall
CATEGORIES:All NI Members
ORGANIZER;CN="Phil Maxwell":MAILTO:maxwell.phil@gmail.com
END:VEVENT
END:VCALENDAR