BEGIN:VCALENDAR
VERSION:2.0
PRODID:-//Scouts NI - ECPv6.15.20//NONSGML v1.0//EN
CALSCALE:GREGORIAN
METHOD:PUBLISH
X-WR-CALNAME:Scouts NI
X-ORIGINAL-URL:https://www.scoutsni.org
X-WR-CALDESC:Events for Scouts NI
REFRESH-INTERVAL;VALUE=DURATION:PT1H
X-Robots-Tag:noindex
X-PUBLISHED-TTL:PT1H
BEGIN:VTIMEZONE
TZID:UTC
BEGIN:STANDARD
TZOFFSETFROM:+0000
TZOFFSETTO:+0000
TZNAME:UTC
DTSTART:20250101T000000
END:STANDARD
END:VTIMEZONE
BEGIN:VEVENT
DTSTART;VALUE=DATE:20260321
DTEND;VALUE=DATE:20260322
DTSTAMP:20260424T211920
CREATED:20260206T144016Z
LAST-MODIFIED:20260206T144016Z
UID:19729-1774051200-1774137599@www.scoutsni.org
SUMMARY:First Aid Training
DESCRIPTION:Get hands-on and be ready when it really matters. \nSouth Down District are running a full-day course in Banbridge. \nIt’s essential training for all leaders and a great chance to build practical skills. If you know you need it\, why not go for it now and get it ticked off your list? Just bring a packed lunch\, plenty of energy and be ready to get stuck in. \nSave the date!
URL:https://www.scoutsni.org/calendar/first-aid-training-2/
LOCATION:Holy Trinity Church Hall\, Church Square\, Banbridge\, BT32 4AA\, United Kingdom
CATEGORIES:All NI Members
ORGANIZER;CN="Rodney Watson (South Down DLV)":MAILTO:southdowndlv@scoutsni.org
END:VEVENT
BEGIN:VEVENT
DTSTART;TZID=UTC:20260321T100000
DTEND;TZID=UTC:20260321T160000
DTSTAMP:20260424T211920
CREATED:20260306T131657Z
LAST-MODIFIED:20260306T131741Z
UID:19952-1774087200-1774108800@www.scoutsni.org
SUMMARY:First Aid Training
DESCRIPTION:Get hands-on and be ready when it really matters. \nSouth Down District are running a full-day course in Banbridge. \nIt’s essential training for all leaders and a great chance to build practical skills. If you know you need it\, why not go for it now and get it ticked off your list? \nJust bring a packed lunch\, plenty of energy and be ready to get stuck in. \nRegister here: https://form.jotform.com/ScoutsNI/first-aid-training-21-march
URL:https://www.scoutsni.org/calendar/first-aid-training-21-march/
LOCATION:Holy Trinity Church Hall\, Church Square\, Banbridge\, BT32 4AA\, United Kingdom
CATEGORIES:All NI Members
ORGANIZER;CN="Rodney Watson (South Down DLV)":MAILTO:southdowndlv@scoutsni.org
END:VEVENT
BEGIN:VEVENT
DTSTART;TZID=UTC:20260321T100000
DTEND;TZID=UTC:20260322T163000
DTSTAMP:20260424T211920
CREATED:20251023T111159Z
LAST-MODIFIED:20251023T111159Z
UID:19339-1774087200-1774197000@www.scoutsni.org
SUMMARY:NIEX 2026 - Navigation Training
DESCRIPTION:Steep Ground\, Advanced Navigation Training including low light. this is an overnight camp.
URL:https://www.scoutsni.org/calendar/niex-2026-navigation-training-2/
LOCATION:Mourne Mountains
ORGANIZER;CN="Andrew Stacey (Activity Permits Lead)":MAILTO:activitypermits@scoutsni.org
END:VEVENT
END:VCALENDAR