BEGIN:VCALENDAR
VERSION:2.0
PRODID:-//Scouts NI - ECPv6.15.20//NONSGML v1.0//EN
CALSCALE:GREGORIAN
METHOD:PUBLISH
X-ORIGINAL-URL:https://www.scoutsni.org
X-WR-CALDESC:Events for Scouts NI
REFRESH-INTERVAL;VALUE=DURATION:PT1H
X-Robots-Tag:noindex
X-PUBLISHED-TTL:PT1H
BEGIN:VTIMEZONE
TZID:UTC
BEGIN:STANDARD
TZOFFSETFROM:+0000
TZOFFSETTO:+0000
TZNAME:UTC
DTSTART:20250101T000000
END:STANDARD
END:VTIMEZONE
BEGIN:VEVENT
DTSTART;TZID=UTC:20260225T193000
DTEND;TZID=UTC:20260225T210000
DTSTAMP:20260424T214509
CREATED:20260213T101333Z
LAST-MODIFIED:20260219T222147Z
UID:19764-1772047800-1772053200@www.scoutsni.org
SUMMARY:Permits & NAN Forms: Approvals & Assessment (Online)
DESCRIPTION:For: DLVs\, RLVs\, Permit Assessors and Permit/NA approvers. \n\nNAN Form Completion – what does it look like – some examples\nDLV & Scouts NI additional Requirements\nInternational Camps – additional requirements\nApplications for a NA or Activity Permit\nInformation For Assessors\nCompleting Assessment online\nScout Rules\nDLV / RLV checking\, restrictions\, approvals and refusals\nQ&A\n\nPlease register below:\nhttps://form.jotform.com/ScoutsNI/getting-permits-right
URL:https://www.scoutsni.org/calendar/permit-applications-nan-forms-online-training/
LOCATION:Online via Teams
CATEGORIES:Permits
ORGANIZER;CN="Andrew Stacey (Activity Permits Lead)":MAILTO:activitypermits@scoutsni.org
END:VEVENT
END:VCALENDAR