BEGIN:VCALENDAR
VERSION:2.0
PRODID:-//Scouts NI - ECPv6.15.20//NONSGML v1.0//EN
CALSCALE:GREGORIAN
METHOD:PUBLISH
X-ORIGINAL-URL:https://www.scoutsni.org
X-WR-CALDESC:Events for Scouts NI
REFRESH-INTERVAL;VALUE=DURATION:PT1H
X-Robots-Tag:noindex
X-PUBLISHED-TTL:PT1H
BEGIN:VTIMEZONE
TZID:UTC
BEGIN:STANDARD
TZOFFSETFROM:+0000
TZOFFSETTO:+0000
TZNAME:UTC
DTSTART:20250101T000000
END:STANDARD
END:VTIMEZONE
BEGIN:VEVENT
DTSTART;TZID=UTC:20260222T100000
DTEND;TZID=UTC:20260222T173000
DTSTAMP:20260424T230649
CREATED:20251023T105800Z
LAST-MODIFIED:20251023T105800Z
UID:19335-1771754400-1771781400@www.scoutsni.org
SUMMARY:NIEX 2026 - Navigation Training
DESCRIPTION:
URL:https://www.scoutsni.org/calendar/niex-2026-navigation-training/
LOCATION:Belfast Hills\, Belfast\, United Kingdom
ORGANIZER;CN="Andrew Stacey (Activity Permits Lead)":MAILTO:activitypermits@scoutsni.org
END:VEVENT
END:VCALENDAR