BEGIN:VCALENDAR
VERSION:2.0
PRODID:-//Scouts NI - ECPv6.15.20//NONSGML v1.0//EN
CALSCALE:GREGORIAN
METHOD:PUBLISH
X-WR-CALNAME:Scouts NI
X-ORIGINAL-URL:https://www.scoutsni.org
X-WR-CALDESC:Events for Scouts NI
REFRESH-INTERVAL;VALUE=DURATION:PT1H
X-Robots-Tag:noindex
X-PUBLISHED-TTL:PT1H
BEGIN:VTIMEZONE
TZID:UTC
BEGIN:STANDARD
TZOFFSETFROM:+0000
TZOFFSETTO:+0000
TZNAME:UTC
DTSTART:20250101T000000
END:STANDARD
END:VTIMEZONE
BEGIN:VEVENT
DTSTART;VALUE=DATE:20260206
DTEND;VALUE=DATE:20260209
DTSTAMP:20260424T230518
CREATED:20251024T124726Z
LAST-MODIFIED:20260109T122744Z
UID:19361-1770336000-1770595199@www.scoutsni.org
SUMMARY:Young Leader Training Weekend
DESCRIPTION:We are excited to announce the upcoming Young Leader Training Weekend at Crawfordsburn Activity Centre from 6-8 February 2026. Get ready for an exciting weekend of fun and learning. \nThis event will cover Modules A-J of the YL Training Scheme and will provide guidance on how best to achieve your missions too. You’ll enhance your leadership skills alongside fellow Explorers\, while enjoying the great outdoors. \nDon’t forget to bring your tent\, sleeping bag\, roll mat\, notebook\, pens\, scout scarf\, and warm coat! \nPlease book below.
URL:https://www.scoutsni.org/calendar/young-leader-training-weekend/
LOCATION:Crawfordsburn Activity Centre\, 20 Bridge Rd S\, Helen's Bay\, Bangor\, BT19 1JT\, United Kingdom
CATEGORIES:Explorers
ORGANIZER;CN="Jack Fry (District Youth Lead - North Down)":MAILTO:dylnorthdown@scoutsni.org
END:VEVENT
BEGIN:VEVENT
DTSTART;TZID=UTC:20260206T190000
DTEND;TZID=UTC:20260208T130000
DTSTAMP:20260424T230518
CREATED:20250818T103356Z
LAST-MODIFIED:20251203T123913Z
UID:18916-1770404400-1770555600@www.scoutsni.org
SUMMARY:Scouts Patrol Leader Training Weekend
DESCRIPTION:Ready to step up and lead? This weekend is all about helping Scouts build the confidence and skills to guide their Patrols. \nThrough hands-on challenges\, outdoor adventures\, and teamwork tasks\, young people will discover what it really means to lead – learning how to plan\, motivate others\, and keep their Patrols running smoothly. \nIt’s a fun and active weekend where Scouts will pick up real-life skills like communication\, problem-solving\, and responsibility – while working towards badges such as Patrol Leader\, Team Leader\, and Teamwork. \nPlease note: when booking\, remember there’s a maximum of four members per Troop. \nSpaces are limited\, so don’t wait too long to sign up.
URL:https://www.scoutsni.org/calendar/scouts-patrol-leader-training-weekend-feb/
LOCATION:Crawfordsburn Activity Centre\, 20 Bridge Rd S\, Helen's Bay\, Bangor\, BT19 1JT\, United Kingdom
CATEGORIES:Scouts
ORGANIZER;CN="Trevor Hendren (NI Scout Team Lead)":MAILTO:scoutsection@scoutsni.org
END:VEVENT
END:VCALENDAR